BEGIN:VCALENDAR
VERSION:2.0
PRODID:-//Fnaim 38 - ECPv6.15.13.1//NONSGML v1.0//EN
CALSCALE:GREGORIAN
METHOD:PUBLISH
X-WR-CALNAME:Fnaim 38
X-ORIGINAL-URL:https://www.fnaim38.com
X-WR-CALDESC:Évènements pour Fnaim 38
REFRESH-INTERVAL;VALUE=DURATION:PT1H
X-Robots-Tag:noindex
X-PUBLISHED-TTL:PT1H
BEGIN:VTIMEZONE
TZID:Europe/Paris
BEGIN:DAYLIGHT
TZOFFSETFROM:+0100
TZOFFSETTO:+0200
TZNAME:CEST
DTSTART:20250330T010000
END:DAYLIGHT
BEGIN:STANDARD
TZOFFSETFROM:+0200
TZOFFSETTO:+0100
TZNAME:CET
DTSTART:20251026T010000
END:STANDARD
BEGIN:DAYLIGHT
TZOFFSETFROM:+0100
TZOFFSETTO:+0200
TZNAME:CEST
DTSTART:20260329T010000
END:DAYLIGHT
BEGIN:STANDARD
TZOFFSETFROM:+0200
TZOFFSETTO:+0100
TZNAME:CET
DTSTART:20261025T010000
END:STANDARD
BEGIN:DAYLIGHT
TZOFFSETFROM:+0100
TZOFFSETTO:+0200
TZNAME:CEST
DTSTART:20270328T010000
END:DAYLIGHT
BEGIN:STANDARD
TZOFFSETFROM:+0200
TZOFFSETTO:+0100
TZNAME:CET
DTSTART:20271031T010000
END:STANDARD
END:VTIMEZONE
BEGIN:VEVENT
DTSTART;VALUE=DATE:20260331
DTEND;VALUE=DATE:20260401
DTSTAMP:20260419T142638
CREATED:20260220T142916Z
LAST-MODIFIED:20260220T150544Z
UID:5647-1774915200-1775001599@www.fnaim38.com
SUMMARY:Les Assises de la Copropriété 2026
DESCRIPTION:La FNAIM de l’Isère vous convie aux Assises de la Copropriété\, organisées avec l’Ordre des Avocats du Barreau de Grenoble et les Notaires du Dauphiné. \nPour cette 2ᵉ édition\, les trois institutions se réuniront autour de trois tables rondes consacrées au thème : « La location en copropriété ». \nUn rendez-vous unique où avocats\, notaires et professionnels de l’immobilier débattront des grands défis de demain. \nUne édition symbolique qui célébrera également les 60 ans de la loi de 1965\, pierre angulaire du droit de la copropriété. \n Plus d’informations et inscription ici 👉 https://assises-copro.fr
URL:https://www.fnaim38.com/formation/les-assises-de-la-copropriete/
LOCATION:World Trade Center (WTC) de GRENOBLE\, 5-7 Pl. Robert Schuman\, Grenoble\, 38000\, France
CATEGORIES:Evènement
END:VEVENT
END:VCALENDAR